

BEGIN:VCALENDAR
VERSION:2.0
PRODID:-//Donna in salute - ECPv4.8.2//NONSGML v1.0//EN
CALSCALE:GREGORIAN
METHOD:PUBLISH
X-WR-CALNAME:Donna in salute
X-ORIGINAL-URL:https://www.donnainsalute.it
X-WR-CALDESC:Eventi per Donna in salute
BEGIN:VEVENT
DTSTART;TZID=Europe/Tallinn:20260311T080000
DTEND;TZID=Europe/Tallinn:20260311T180000
DTSTAMP:20260424T182248
CREATED:20260305T182315Z
LAST-MODIFIED:20260305T183809Z
UID:32208-1773216000-1773252000@www.donnainsalute.it
SUMMARY:11 marzo: consulenze gratuite sulla psoriasi negli Ospedali con Bollino Rosa
DESCRIPTION:Una giornata interamente dedicata alla psoriasi\, con servizi gratuiti clinico-diagnostici e informativi: l’11 marzo Fondazione Onda ETS promuove l’(H) Open Day con la Società Italiana di Dermatologia medica\, chirurgica\, estetica e di Malattie Sessualmente Trasmesse\, e con il patrocinio di APIAFCO (Associazione Psoriasici Italiani Amici della Fondazione Corazza). In oltre 90 presidi aderenti al network con il Bollino Rosa\, saranno offerte alla popolazione visite dermatologiche\, consulenze ed eventi informativi. Durante l’(H) Open Day saranno offerti gratuitamente alla popolazione\, a seconda della disponibilità dei singoli presidi aderenti\, visite dermatologiche\, consulenze specialistiche ed eventi informativi. L’elenco completo delle strutture aderenti e dei servizi disponibili è consultabile sul sito http://www.bollinirosa.it. \nLa psoriasi è una malattia cronica che interessa circa il 2-3% della popolazione generale. Sebbene la manifestazione più evidente riguardi la pelle – con la forma a placche che rappresenta circa il 90% dei casi e si caratterizza per lesioni eritematose spesso associate a prurito\, dolore e bruciore – si tratta a tutti gli effetti di una patologia sistemica\, associata a comorbilità rilevanti\, tra cui artrite psoriasica\, malattie cardiovascolari\, diabete e patologie infiammatorie intestinali. L’impatto non è soltanto clinico: il coinvolgimento di aree visibili come volto\, mani o cuoio capelluto può condizionare profondamente la sfera relazionale\, sociale e professionale\, con ripercussioni sul benessere psico-emotivo e sulla qualità della vita.\nFrancesca Merzagora\, presidente di Fondazione Onda ETS\, dichiara: “L’(H) Open Day sulla psoriasi nasce con un duplice obiettivo: sensibilizzare su una patologia spesso sottovalutata e facilitare l’accesso ai percorsi di diagnosi e cura\, promuovendo una presa in carico appropriata e multidisciplinare. Il network degli ospedali Bollino Rosa rappresenta un presidio fondamentale sul territorio per intercettare i bisogni di salute e offrire risposte adeguate”.\n\n
URL:https://www.donnainsalute.it/evento/11-marzo-consulenze-gratuite-sulla-psoriasi-negli-ospedali-con-bollino-rosa/
END:VEVENT
END:VCALENDAR